BEGIN:VCALENDAR
VERSION:2.0
PRODID:-//The Town of Rutland, Vermont - ECPv6.15.20//NONSGML v1.0//EN
CALSCALE:GREGORIAN
METHOD:PUBLISH
X-ORIGINAL-URL:https://www.rutlandtown.com
X-WR-CALDESC:Events for The Town of Rutland, Vermont
REFRESH-INTERVAL;VALUE=DURATION:PT1H
X-Robots-Tag:noindex
X-PUBLISHED-TTL:PT1H
BEGIN:VTIMEZONE
TZID:UTC
BEGIN:STANDARD
TZOFFSETFROM:+0000
TZOFFSETTO:+0000
TZNAME:UTC
DTSTART:20200101T000000
END:STANDARD
END:VTIMEZONE
BEGIN:VEVENT
DTSTART;TZID=UTC:20211207T113000
DTEND;TZID=UTC:20211207T130000
DTSTAMP:20260421T140047
CREATED:20211110T162513Z
LAST-MODIFIED:20211110T162513Z
UID:10000582-1638876600-1638882000@www.rutlandtown.com
SUMMARY:Senior Luncheon
DESCRIPTION:The December Senior Luncheon will be held at Grace Church\, on West Street\, on Tuesday December 7th starting at 11:30AM. \nThe Rutland Town School band is providing music for the lunch. \nAll Rutland Town seniors are welcome to attend!
URL:https://www.rutlandtown.com/event/senior-luncheon/
LOCATION:VT\, United States
CATEGORIES:Community
END:VEVENT
BEGIN:VEVENT
DTSTART;TZID=UTC:20210727T113000
DTEND;TZID=UTC:20210727T130000
DTSTAMP:20260421T140047
CREATED:20210707T142728Z
LAST-MODIFIED:20210707T142728Z
UID:10000563-1627385400-1627390800@www.rutlandtown.com
SUMMARY:Rutland Town Seniors Luncheon
DESCRIPTION:Our next luncheon for the Rutland Town Seniors is planned! \nPlease contact Mike Rowe or Jim Hall if you would like to attend!
URL:https://www.rutlandtown.com/event/rutland-town-seniors-luncheon-2/
LOCATION:Northwood Park\, 185 Northwood Park Road\, Rutland\, 05701
CATEGORIES:Community
END:VEVENT
BEGIN:VEVENT
DTSTART;TZID=UTC:20210622T113000
DTEND;TZID=UTC:20210622T130000
DTSTAMP:20260421T140047
CREATED:20210618T135348Z
LAST-MODIFIED:20210618T135348Z
UID:10000450-1624361400-1624366800@www.rutlandtown.com
SUMMARY:Rutland Town Seniors Luncheon
DESCRIPTION:Hello Rutland Town Seniors! \nAt long last we are ready to get back together! We have scheduled a lunch for 11:30 on June 22\, at Sugar and Spice. \nAs in the past\, we will need a headcount for this event. We need the number of attendees no later than the afternoon of June 15. A firm number needs to be provided to the restaurant\, so they can plan for ordering everything that goes into our presence. \nWe will be ordering off the menu as we did last summer and the Seniors’ Treasury will pay the tab for this with no co-pay. Much has been endured during the last year and we want to be sure everyone gets a chance to get out\, visit\, eat a lunch\, visit some more and conduct a minimum of business related to our group. Looking forward to a great day both weather related and otherwise. \nEarlier this spring\, there were conversations with Mike Rowe from the Rec Dept. Our July lunch is being planned for Northwood; the date has not been set but we will be working on that in the coming days and weeks. \nPlease stay healthy and vigilant even though we are heading into a time of long awaited recovery\, it always pays best to be careful no matter what. \nWill be waiting to hear from you. \nBest\, \nJim Hall\, V/P & Treasurer\, RT Seniors
URL:https://www.rutlandtown.com/event/rutland-town-seniors-luncheon/
CATEGORIES:Community
END:VEVENT
END:VCALENDAR